BEGIN:VCALENDAR
VERSION:2.0
PRODID:-// - ECPv6.15.20//NONSGML v1.0//EN
CALSCALE:GREGORIAN
METHOD:PUBLISH
X-ORIGINAL-URL:https://townbroadcast.com
X-WR-CALDESC:Events for 
REFRESH-INTERVAL;VALUE=DURATION:PT1H
X-Robots-Tag:noindex
X-PUBLISHED-TTL:PT1H
BEGIN:VTIMEZONE
TZID:America/Detroit
BEGIN:DAYLIGHT
TZOFFSETFROM:-0500
TZOFFSETTO:-0400
TZNAME:EDT
DTSTART:20250309T070000
END:DAYLIGHT
BEGIN:STANDARD
TZOFFSETFROM:-0400
TZOFFSETTO:-0500
TZNAME:EST
DTSTART:20251102T060000
END:STANDARD
BEGIN:DAYLIGHT
TZOFFSETFROM:-0500
TZOFFSETTO:-0400
TZNAME:EDT
DTSTART:20260308T070000
END:DAYLIGHT
BEGIN:STANDARD
TZOFFSETFROM:-0400
TZOFFSETTO:-0500
TZNAME:EST
DTSTART:20261101T060000
END:STANDARD
BEGIN:DAYLIGHT
TZOFFSETFROM:-0500
TZOFFSETTO:-0400
TZNAME:EDT
DTSTART:20270314T070000
END:DAYLIGHT
BEGIN:STANDARD
TZOFFSETFROM:-0400
TZOFFSETTO:-0500
TZNAME:EST
DTSTART:20271107T060000
END:STANDARD
END:VTIMEZONE
BEGIN:VEVENT
DTSTART;TZID=America/Detroit:20260308T150000
DTEND;TZID=America/Detroit:20260308T170000
DTSTAMP:20260423T053736
CREATED:20260304T070149Z
LAST-MODIFIED:20260304T073223Z
UID:75697-1772982000-1772989200@townbroadcast.com
SUMMARY:International Women's Day Paint & Sip
DESCRIPTION:Celebrate creativity\, connection\, and community at our International Women’s Day Paint & Sip on Sunday\, March 8th from 3–5PM! \n\n\n\n\nCelebrate creativity\, connection\, and community at our International Women’s Day Paint & Sip on Sunday\, March 8th from 3–5PM in our Fireside Room. For $40 per person\, enjoy a relaxed\, guided painting class—perfect for all skill levels—while you sip and socialize. Your ticket includes one drink\, access to a coffee bar\, and a cash bar for additional beverages. Plus\, enjoy door prizes throughout the event for a little extra fun. \nAfter the class\, keep the celebration going with 20% off at Bay Pointe Bar & Grille—reservations are recommended. \nTicket purchases close Wednesday\, March 4th\, so be sure to reserve your spot early. Gather your friends and make it a creative\, feel-good afternoon in honor of International Women’s Day.
URL:https://townbroadcast.com/event/international-womens-day-paint-sip/
LOCATION:Bay Pointe Inn\, 11456 Marsh Road\, Shelbyville\, MI\, 49344\, United States
CATEGORIES:Community Events
END:VEVENT
BEGIN:VEVENT
DTSTART;TZID=America/Detroit:20260310T080000
DTEND;TZID=America/Detroit:20260328T210000
DTSTAMP:20260423T053736
CREATED:20260310T003109Z
LAST-MODIFIED:20260310T003324Z
UID:75867-1773129600-1774731600@townbroadcast.com
SUMMARY:Easter Egg Hunt planned for March 28 at City Park
DESCRIPTION:The annual Easter Egg Hunt in the City of Wayland will be held at 9:30 a.m. Saturday\, March 28\, in the City Park.
URL:https://townbroadcast.com/event/easter-egg-hunt-planned-for-march-28-at-city-park/
CATEGORIES:Community Events
END:VEVENT
BEGIN:VEVENT
DTSTART;TZID=America/Detroit:20260312T190000
DTEND;TZID=America/Detroit:20260312T210000
DTSTAMP:20260423T053736
CREATED:20260306T031318Z
LAST-MODIFIED:20260306T102231Z
UID:75788-1773342000-1773349200@townbroadcast.com
SUMMARY:Anne Frank exhibit to visit Wayland March 12
DESCRIPTION:This free community-wide event offers two chances to experience our student docents guiding you through a moving exhibit that remembers the Holocaust and Second World War from the perspective of Anne Frank and her family.\nBoth nights will also feature screenings of the movie “The Ice Cream Man\,” which tells the remarkable true story of Ernst Cahn and his courageous stand against Nazi oppression.\n*Due to the sensitive subject matter\, this exhibit may not be suitable for younger audiences*
URL:https://townbroadcast.com/event/anne-frank-exhibit-to-visit-wayland-march-12-19/
LOCATION:Wayland Union Fine Arts Center\, 870 E Superior St\, Wayland\, MI\, 34746\, United States
CATEGORIES:Community Events,Wayland Fine Arts
END:VEVENT
BEGIN:VEVENT
DTSTART;TZID=America/Detroit:20260325T190000
DTEND;TZID=America/Detroit:20260325T210000
DTSTAMP:20260423T053736
CREATED:20260306T102458Z
LAST-MODIFIED:20260306T102458Z
UID:75800-1774465200-1774472400@townbroadcast.com
SUMMARY:Anne Frank: A History for Today
DESCRIPTION:This free community-wide event offers two chances to experience our student docents guiding you through a moving exhibit that remembers the Holocaust and Second World War from the perspective of Anne Frank and her family.\nBoth nights will also feature screenings of the movie “The Ice Cream Man\,” which tells the remarkable true story of Ernst Cahn and his courageous stand against Nazi oppression.\n*Due to the sensitive subject matter\, this exhibit may not be suitable for younger audiences*
URL:https://townbroadcast.com/event/anne-frank-a-history-for-today/
LOCATION:Wayland Union Fine Arts Center\, 870 E Superior St\, Wayland\, MI\, 34746\, United States
CATEGORIES:Community Events,Wayland Fine Arts
END:VEVENT
END:VCALENDAR