BEGIN:VCALENDAR
VERSION:2.0
PRODID:-// - ECPv6.15.20//NONSGML v1.0//EN
CALSCALE:GREGORIAN
METHOD:PUBLISH
X-ORIGINAL-URL:https://townbroadcast.com
X-WR-CALDESC:Events for 
REFRESH-INTERVAL;VALUE=DURATION:PT1H
X-Robots-Tag:noindex
X-PUBLISHED-TTL:PT1H
BEGIN:VTIMEZONE
TZID:America/Detroit
BEGIN:DAYLIGHT
TZOFFSETFROM:-0500
TZOFFSETTO:-0400
TZNAME:EDT
DTSTART:20250309T070000
END:DAYLIGHT
BEGIN:STANDARD
TZOFFSETFROM:-0400
TZOFFSETTO:-0500
TZNAME:EST
DTSTART:20251102T060000
END:STANDARD
BEGIN:DAYLIGHT
TZOFFSETFROM:-0500
TZOFFSETTO:-0400
TZNAME:EDT
DTSTART:20260308T070000
END:DAYLIGHT
BEGIN:STANDARD
TZOFFSETFROM:-0400
TZOFFSETTO:-0500
TZNAME:EST
DTSTART:20261101T060000
END:STANDARD
BEGIN:DAYLIGHT
TZOFFSETFROM:-0500
TZOFFSETTO:-0400
TZNAME:EDT
DTSTART:20270314T070000
END:DAYLIGHT
BEGIN:STANDARD
TZOFFSETFROM:-0400
TZOFFSETTO:-0500
TZNAME:EST
DTSTART:20271107T060000
END:STANDARD
END:VTIMEZONE
BEGIN:VEVENT
DTSTART;TZID=America/Detroit:20260328T190000
DTEND;TZID=America/Detroit:20260328T203000
DTSTAMP:20260423T173737
CREATED:20260304T072836Z
LAST-MODIFIED:20260304T073147Z
UID:75715-1774724400-1774729800@townbroadcast.com
SUMMARY:WUMS & WUHS Theatre presents - Disney's The Lion King Jr.
DESCRIPTION:The Lion King JR. tells the story of the epic adventures of a curious cub named Simba as he struggles to accept the responsibilities of adulthood and his destiny as king. Along the way\, the young lion encounters a colorful cast of characters including spunky lioness Nala\, charismatic meerkat Timon\, and loveable warthog Pumbaa. To claim his rightful place on the throne and save his beloved Pridelands \, Simba must find his inner strength and confront his wicked Uncle Scar. The Lion King JR. features classic songs from the 1994 film such as “Hakuna Matata” and the Academy Award®-winning “Can You Feel the Love Tonight” as well as additional songs penned for the Broadway production. \nIf you have any questions regarding tickets\, please reach out to our Fine Arts Center Director at tellerc@waylandunion.org or via the Wayland Union Fine Arts Center Facebook page.
URL:https://townbroadcast.com/event/wums-wuhs-theatre-presents-disneys-the-lion-king-jr-3/
LOCATION:Wayland Union Fine Arts Center\, 870 E Superior St\, Wayland\, MI\, 34746\, United States
CATEGORIES:Wayland Fine Arts
END:VEVENT
END:VCALENDAR